BEGIN:VCALENDAR
VERSION:2.0
PRODID:-//Drupal: Date iCal//NONSGML kigkonsult.se iCalcreator 2.16.12//
METHOD:PUBLISH
X-WR-CALNAME;VALUE=TEXT:Ical
BEGIN:VTIMEZONE
TZID:America/New_York
BEGIN:STANDARD
DTSTART:20171105T020000
TZOFFSETFROM:-0400
TZOFFSETTO:-0500
TZNAME:EST
END:STANDARD
BEGIN:DAYLIGHT
DTSTART:20170312T020000
TZOFFSETFROM:-0500
TZOFFSETTO:-0400
RDATE:20180311T020000
TZNAME:EDT
END:DAYLIGHT
END:VTIMEZONE
BEGIN:VEVENT
UID:calendar.831606.field_date.0@thebehnreport.hks.harvard.edu
DTSTAMP:20210301T011512Z
DESCRIPTION:The&nbsp\;Driving Government Performance: Leadership Strategies
  that Produce Results is a week-long session that runs from Sunday-Friday:
  March 19-24\, 2017Apply today
DTSTART;TZID=America/New_York:20170319T120000
DTEND;TZID=America/New_York:20170324T130000
LAST-MODIFIED:20161018T183751Z
SUMMARY:Driving Government Performance: Leadership Strategies that Produce 
 Results
URL;TYPE=URI:https://thebehnreport.hks.harvard.edu/event/driving-government
 -performance-leadership-strategies-produce-results
END:VEVENT
END:VCALENDAR
